BEGIN:VCALENDAR
VERSION:2.0
PRODID:-//North Shore Alano Club - ECPv6.15.20//NONSGML v1.0//EN
CALSCALE:GREGORIAN
METHOD:PUBLISH
X-WR-CALNAME:North Shore Alano Club
X-ORIGINAL-URL:https://northshorealano.com
X-WR-CALDESC:Events for North Shore Alano Club
REFRESH-INTERVAL;VALUE=DURATION:PT1H
X-Robots-Tag:noindex
X-PUBLISHED-TTL:PT1H
BEGIN:VTIMEZONE
TZID:America/Vancouver
BEGIN:DAYLIGHT
TZOFFSETFROM:-0800
TZOFFSETTO:-0700
TZNAME:PDT
DTSTART:20250309T100000
END:DAYLIGHT
BEGIN:STANDARD
TZOFFSETFROM:-0700
TZOFFSETTO:-0800
TZNAME:PST
DTSTART:20251102T090000
END:STANDARD
BEGIN:DAYLIGHT
TZOFFSETFROM:-0800
TZOFFSETTO:-0700
TZNAME:PDT
DTSTART:20260308T100000
END:DAYLIGHT
BEGIN:STANDARD
TZOFFSETFROM:-0700
TZOFFSETTO:-0800
TZNAME:PST
DTSTART:20261101T090000
END:STANDARD
BEGIN:DAYLIGHT
TZOFFSETFROM:-0800
TZOFFSETTO:-0700
TZNAME:PDT
DTSTART:20270314T100000
END:DAYLIGHT
BEGIN:STANDARD
TZOFFSETFROM:-0700
TZOFFSETTO:-0800
TZNAME:PST
DTSTART:20271107T090000
END:STANDARD
END:VTIMEZONE
BEGIN:VEVENT
DTSTART;TZID=America/Vancouver:20260423T080000
DTEND;TZID=America/Vancouver:20260423T090000
DTSTAMP:20260423T051534
CREATED:20240422T032218Z
LAST-MODIFIED:20240428T175915Z
UID:10004967-1776931200-1776934800@northshorealano.com
SUMMARY:AA Early Bird
DESCRIPTION:
URL:https://northshorealano.com/event/aa-early-bird/2026-04-23/
LOCATION:Room 2
CATEGORIES:Alcoholics Anonymous,Meetings
END:VEVENT
BEGIN:VEVENT
DTSTART;TZID=America/Vancouver:20260423T120000
DTEND;TZID=America/Vancouver:20260423T130000
DTSTAMP:20260423T051534
CREATED:20240422T032537Z
LAST-MODIFIED:20260317T001323Z
UID:10007585-1776945600-1776949200@northshorealano.com
SUMMARY:AA Lunch Bunch
DESCRIPTION:
URL:https://northshorealano.com/event/aa-lunch-bunch/2026-04-23/
LOCATION:Room 2
CATEGORIES:Alcoholics Anonymous,Meetings
END:VEVENT
BEGIN:VEVENT
DTSTART;TZID=America/Vancouver:20260423T160000
DTEND;TZID=America/Vancouver:20260423T170000
DTSTAMP:20260423T051534
CREATED:20240428T181321Z
LAST-MODIFIED:20260317T000022Z
UID:10010981-1776960000-1776963600@northshorealano.com
SUMMARY:AA Simple at Four
DESCRIPTION:
URL:https://northshorealano.com/event/aa-simple-at-four/2026-04-23/
LOCATION:Room 2
CATEGORIES:Alcoholics Anonymous,Meetings
END:VEVENT
BEGIN:VEVENT
DTSTART;TZID=America/Vancouver:20260423T194500
DTEND;TZID=America/Vancouver:20260423T204500
DTSTAMP:20260423T051534
CREATED:20240504T174704Z
LAST-MODIFIED:20240504T174704Z
UID:10014743-1776973500-1776977100@northshorealano.com
SUMMARY:OA A New Way of Living
DESCRIPTION:
URL:https://northshorealano.com/event/oa-a-new-way-of-living/2026-04-23/
LOCATION:Room 2
CATEGORIES:Meetings,Overeaters Anonymous
END:VEVENT
BEGIN:VEVENT
DTSTART;TZID=America/Vancouver:20260423T200000
DTEND;TZID=America/Vancouver:20260423T210000
DTSTAMP:20260423T051534
CREATED:20240428T181939Z
LAST-MODIFIED:20240428T181939Z
UID:10013176-1776974400-1776978000@northshorealano.com
SUMMARY:AA Thanks Giving
DESCRIPTION:
URL:https://northshorealano.com/event/aa-thanks-giving/2026-04-23/
LOCATION:Cafeteria
CATEGORIES:Alcoholics Anonymous,Meetings
END:VEVENT
BEGIN:VEVENT
DTSTART;TZID=America/Vancouver:20260424T080000
DTEND;TZID=America/Vancouver:20260424T090000
DTSTAMP:20260423T051534
CREATED:20240422T032218Z
LAST-MODIFIED:20240428T175915Z
UID:10004968-1777017600-1777021200@northshorealano.com
SUMMARY:AA Early Bird
DESCRIPTION:
URL:https://northshorealano.com/event/aa-early-bird/2026-04-24/
LOCATION:Room 2
CATEGORIES:Alcoholics Anonymous,Meetings
END:VEVENT
BEGIN:VEVENT
DTSTART;TZID=America/Vancouver:20260424T120000
DTEND;TZID=America/Vancouver:20260424T130000
DTSTAMP:20260423T051534
CREATED:20240422T032537Z
LAST-MODIFIED:20260317T001323Z
UID:10007586-1777032000-1777035600@northshorealano.com
SUMMARY:AA Lunch Bunch
DESCRIPTION:
URL:https://northshorealano.com/event/aa-lunch-bunch/2026-04-24/
LOCATION:Room 2
CATEGORIES:Alcoholics Anonymous,Meetings
END:VEVENT
BEGIN:VEVENT
DTSTART;TZID=America/Vancouver:20260424T160000
DTEND;TZID=America/Vancouver:20260424T170000
DTSTAMP:20260423T051534
CREATED:20240428T181321Z
LAST-MODIFIED:20260317T000022Z
UID:10010982-1777046400-1777050000@northshorealano.com
SUMMARY:AA Simple at Four
DESCRIPTION:
URL:https://northshorealano.com/event/aa-simple-at-four/2026-04-24/
LOCATION:Room 2
CATEGORIES:Alcoholics Anonymous,Meetings
END:VEVENT
BEGIN:VEVENT
DTSTART;TZID=America/Vancouver:20260424T173000
DTEND;TZID=America/Vancouver:20260424T183000
DTSTAMP:20260423T051534
CREATED:20240504T174304Z
LAST-MODIFIED:20250422T234502Z
UID:10016390-1777051800-1777055400@northshorealano.com
SUMMARY:PA God's Hand Group
DESCRIPTION:
URL:https://northshorealano.com/event/pa-gods-hand-group/2026-04-24/
LOCATION:Room 2
CATEGORIES:Meetings,Pornography Anonymous
END:VEVENT
BEGIN:VEVENT
DTSTART;TZID=America/Vancouver:20260424T190000
DTEND;TZID=America/Vancouver:20260424T200000
DTSTAMP:20260423T051534
CREATED:20240821T214830Z
LAST-MODIFIED:20240821T214857Z
UID:10015799-1777057200-1777060800@northshorealano.com
SUMMARY:Bill and Bob's Disciples
DESCRIPTION:
URL:https://northshorealano.com/event/bill-and-bobs-disciples/2026-04-24/
LOCATION:Room 1
CATEGORIES:Alcoholics Anonymous,Meetings
END:VEVENT
BEGIN:VEVENT
DTSTART;TZID=America/Vancouver:20260424T193000
DTEND;TZID=America/Vancouver:20260424T203000
DTSTAMP:20260423T051534
CREATED:20240504T175038Z
LAST-MODIFIED:20240504T175038Z
UID:10015006-1777059000-1777062600@northshorealano.com
SUMMARY:CA Friday Night
DESCRIPTION:
URL:https://northshorealano.com/event/ca-friday-night/2026-04-24/
LOCATION:Hall
CATEGORIES:Cocaine Anonymous,Meetings
END:VEVENT
BEGIN:VEVENT
DTSTART;TZID=America/Vancouver:20260425T090000
DTEND;TZID=America/Vancouver:20260425T100000
DTSTAMP:20260423T051534
CREATED:20240428T180839Z
LAST-MODIFIED:20240428T180839Z
UID:10009783-1777107600-1777111200@northshorealano.com
SUMMARY:AA Canada AM
DESCRIPTION:
URL:https://northshorealano.com/event/aa-canada-am/2026-04-25/
LOCATION:Hall
CATEGORIES:Alcoholics Anonymous,Meetings
END:VEVENT
BEGIN:VEVENT
DTSTART;TZID=America/Vancouver:20260425T120000
DTEND;TZID=America/Vancouver:20260425T130000
DTSTAMP:20260423T051534
CREATED:20240422T032537Z
LAST-MODIFIED:20260317T001323Z
UID:10017566-1777118400-1777122000@northshorealano.com
SUMMARY:AA Lunch Bunch
DESCRIPTION:
URL:https://northshorealano.com/event/aa-lunch-bunch/2026-04-25/
LOCATION:Room 2
CATEGORIES:Alcoholics Anonymous,Meetings
END:VEVENT
BEGIN:VEVENT
DTSTART;TZID=America/Vancouver:20260425T160000
DTEND;TZID=America/Vancouver:20260425T170000
DTSTAMP:20260423T051534
CREATED:20240428T181321Z
LAST-MODIFIED:20260317T000022Z
UID:10016716-1777132800-1777136400@northshorealano.com
SUMMARY:AA Simple at Four
DESCRIPTION:
URL:https://northshorealano.com/event/aa-simple-at-four/2026-04-25/
LOCATION:Room 2
CATEGORIES:Alcoholics Anonymous,Meetings
END:VEVENT
BEGIN:VEVENT
DTSTART;TZID=America/Vancouver:20260425T193000
DTEND;TZID=America/Vancouver:20260425T203000
DTSTAMP:20260423T051534
CREATED:20240428T181841Z
LAST-MODIFIED:20240428T181841Z
UID:10012915-1777145400-1777149000@northshorealano.com
SUMMARY:AA North Shore Live
DESCRIPTION:
URL:https://northshorealano.com/event/aa-north-shore-live/2026-04-25/
LOCATION:Room 1
CATEGORIES:Alcoholics Anonymous,Meetings
END:VEVENT
BEGIN:VEVENT
DTSTART;TZID=America/Vancouver:20260426T110000
DTEND;TZID=America/Vancouver:20260426T120000
DTSTAMP:20260423T051534
CREATED:20240428T181121Z
LAST-MODIFIED:20240428T181121Z
UID:10010045-1777201200-1777204800@northshorealano.com
SUMMARY:AA Sunday Breakfast
DESCRIPTION:Breakfast served from 9:30-11:30AM
URL:https://northshorealano.com/event/aa-sunday-breakfast/2026-04-26/
LOCATION:Cafeteria
CATEGORIES:Alcoholics Anonymous,Meetings
END:VEVENT
BEGIN:VEVENT
DTSTART;TZID=America/Vancouver:20260426T120000
DTEND;TZID=America/Vancouver:20260426T130000
DTSTAMP:20260423T051534
CREATED:20240821T212149Z
LAST-MODIFIED:20240821T212149Z
UID:10015281-1777204800-1777208400@northshorealano.com
SUMMARY:AA Secular Sobriety - Non Religious
DESCRIPTION:
URL:https://northshorealano.com/event/aa-secular-sobriety-non-religious-2/2026-04-26/
LOCATION:Room 1
CATEGORIES:Alcoholics Anonymous,Meetings
END:VEVENT
BEGIN:VEVENT
DTSTART;TZID=America/Vancouver:20260426T130000
DTEND;TZID=America/Vancouver:20260426T140000
DTSTAMP:20260423T051534
CREATED:20240821T212757Z
LAST-MODIFIED:20240821T215630Z
UID:10015540-1777208400-1777212000@northshorealano.com
SUMMARY:Women's Topic Meeting
DESCRIPTION:
URL:https://northshorealano.com/event/womens-topic-meeting/2026-04-26/
LOCATION:Room 1
CATEGORIES:Alcoholics Anonymous,Meetings
END:VEVENT
BEGIN:VEVENT
DTSTART;TZID=America/Vancouver:20260426T183000
DTEND;TZID=America/Vancouver:20260426T193000
DTSTAMP:20260423T051534
CREATED:20240428T181447Z
LAST-MODIFIED:20240428T181447Z
UID:10011872-1777228200-1777231800@northshorealano.com
SUMMARY:AA Sunday Speaker
DESCRIPTION:
URL:https://northshorealano.com/event/aa-sunday-speaker/2026-04-26/
LOCATION:Hall
CATEGORIES:Alcoholics Anonymous,Meetings
END:VEVENT
BEGIN:VEVENT
DTSTART;TZID=America/Vancouver:20260426T190000
DTEND;TZID=America/Vancouver:20260426T200000
DTSTAMP:20260423T051534
CREATED:20240504T174552Z
LAST-MODIFIED:20240504T174552Z
UID:10014483-1777230000-1777233600@northshorealano.com
SUMMARY:OA Into Action
DESCRIPTION:
URL:https://northshorealano.com/event/oa-into-action/2026-04-26/
LOCATION:Room 1
CATEGORIES:Meetings,Overeaters Anonymous
END:VEVENT
BEGIN:VEVENT
DTSTART;TZID=America/Vancouver:20260427T080000
DTEND;TZID=America/Vancouver:20260427T090000
DTSTAMP:20260423T051534
CREATED:20240422T032218Z
LAST-MODIFIED:20240428T175915Z
UID:10004969-1777276800-1777280400@northshorealano.com
SUMMARY:AA Early Bird
DESCRIPTION:
URL:https://northshorealano.com/event/aa-early-bird/2026-04-27/
LOCATION:Room 2
CATEGORIES:Alcoholics Anonymous,Meetings
END:VEVENT
BEGIN:VEVENT
DTSTART;TZID=America/Vancouver:20260427T120000
DTEND;TZID=America/Vancouver:20260427T130000
DTSTAMP:20260423T051534
CREATED:20240422T032537Z
LAST-MODIFIED:20260317T001323Z
UID:10007587-1777291200-1777294800@northshorealano.com
SUMMARY:AA Lunch Bunch
DESCRIPTION:
URL:https://northshorealano.com/event/aa-lunch-bunch/2026-04-27/
LOCATION:Room 2
CATEGORIES:Alcoholics Anonymous,Meetings
END:VEVENT
BEGIN:VEVENT
DTSTART;TZID=America/Vancouver:20260427T160000
DTEND;TZID=America/Vancouver:20260427T170000
DTSTAMP:20260423T051534
CREATED:20240428T181321Z
LAST-MODIFIED:20260317T000022Z
UID:10010983-1777305600-1777309200@northshorealano.com
SUMMARY:AA Simple at Four
DESCRIPTION:
URL:https://northshorealano.com/event/aa-simple-at-four/2026-04-27/
LOCATION:Room 2
CATEGORIES:Alcoholics Anonymous,Meetings
END:VEVENT
BEGIN:VEVENT
DTSTART;TZID=America/Vancouver:20260427T180000
DTEND;TZID=America/Vancouver:20260427T190000
DTSTAMP:20260423T051534
CREATED:20240504T173702Z
LAST-MODIFIED:20240504T173712Z
UID:10013437-1777312800-1777316400@northshorealano.com
SUMMARY:Farsi Alanon
DESCRIPTION:
URL:https://northshorealano.com/event/farsi-alan/2026-04-27/
LOCATION:Room 1
CATEGORIES:Alanon,Farsi Alanon,Meetings
END:VEVENT
BEGIN:VEVENT
DTSTART;TZID=America/Vancouver:20260427T190000
DTEND;TZID=America/Vancouver:20260427T200000
DTSTAMP:20260423T051534
CREATED:20240428T181603Z
LAST-MODIFIED:20240428T181603Z
UID:10012133-1777316400-1777320000@northshorealano.com
SUMMARY:AA Mens Step
DESCRIPTION:
URL:https://northshorealano.com/event/aa-mens-step/2026-04-27/
LOCATION:Room 1
CATEGORIES:Alcoholics Anonymous,Meetings
END:VEVENT
BEGIN:VEVENT
DTSTART;TZID=America/Vancouver:20260427T190000
DTEND;TZID=America/Vancouver:20260427T200000
DTSTAMP:20260423T051534
CREATED:20240504T174046Z
LAST-MODIFIED:20240504T174046Z
UID:10013959-1777316400-1777320000@northshorealano.com
SUMMARY:NA Never Alone
DESCRIPTION:
URL:https://northshorealano.com/event/na-never-alone/2026-04-27/
LOCATION:Room 2
CATEGORIES:Meetings,Narcotics Anonymous
END:VEVENT
BEGIN:VEVENT
DTSTART;TZID=America/Vancouver:20260428T080000
DTEND;TZID=America/Vancouver:20260428T090000
DTSTAMP:20260423T051534
CREATED:20240422T032218Z
LAST-MODIFIED:20240428T175915Z
UID:10004970-1777363200-1777366800@northshorealano.com
SUMMARY:AA Early Bird
DESCRIPTION:
URL:https://northshorealano.com/event/aa-early-bird/2026-04-28/
LOCATION:Room 2
CATEGORIES:Alcoholics Anonymous,Meetings
END:VEVENT
BEGIN:VEVENT
DTSTART;TZID=America/Vancouver:20260428T120000
DTEND;TZID=America/Vancouver:20260428T130000
DTSTAMP:20260423T051534
CREATED:20240422T032537Z
LAST-MODIFIED:20260317T001323Z
UID:10007588-1777377600-1777381200@northshorealano.com
SUMMARY:AA Lunch Bunch
DESCRIPTION:
URL:https://northshorealano.com/event/aa-lunch-bunch/2026-04-28/
LOCATION:Room 2
CATEGORIES:Alcoholics Anonymous,Meetings
END:VEVENT
BEGIN:VEVENT
DTSTART;TZID=America/Vancouver:20260428T160000
DTEND;TZID=America/Vancouver:20260428T170000
DTSTAMP:20260423T051534
CREATED:20240428T181321Z
LAST-MODIFIED:20260317T000022Z
UID:10010984-1777392000-1777395600@northshorealano.com
SUMMARY:AA Simple at Four
DESCRIPTION:
URL:https://northshorealano.com/event/aa-simple-at-four/2026-04-28/
LOCATION:Room 2
CATEGORIES:Alcoholics Anonymous,Meetings
END:VEVENT
BEGIN:VEVENT
DTSTART;TZID=America/Vancouver:20260428T180000
DTEND;TZID=America/Vancouver:20260428T190000
DTSTAMP:20260423T051534
CREATED:20240504T173919Z
LAST-MODIFIED:20240504T173919Z
UID:10013698-1777399200-1777402800@northshorealano.com
SUMMARY:NA Big Book
DESCRIPTION:
URL:https://northshorealano.com/event/na-big-book/2026-04-28/
LOCATION:Room 2
CATEGORIES:Meetings,Narcotics Anonymous
END:VEVENT
END:VCALENDAR